BEGIN:VCALENDAR
VERSION:2.0
PRODID:-//Children&#039;s Council San Francisco - ECPv6.15.18//NONSGML v1.0//EN
CALSCALE:GREGORIAN
METHOD:PUBLISH
X-ORIGINAL-URL:https://www.childrenscouncil.org
X-WR-CALDESC:Events for Children&#039;s Council San Francisco
REFRESH-INTERVAL;VALUE=DURATION:PT1H
X-Robots-Tag:noindex
X-PUBLISHED-TTL:PT1H
BEGIN:VTIMEZONE
TZID:America/Los_Angeles
BEGIN:DAYLIGHT
TZOFFSETFROM:-0800
TZOFFSETTO:-0700
TZNAME:PDT
DTSTART:20250309T100000
END:DAYLIGHT
BEGIN:STANDARD
TZOFFSETFROM:-0700
TZOFFSETTO:-0800
TZNAME:PST
DTSTART:20251102T090000
END:STANDARD
BEGIN:DAYLIGHT
TZOFFSETFROM:-0800
TZOFFSETTO:-0700
TZNAME:PDT
DTSTART:20260308T100000
END:DAYLIGHT
BEGIN:STANDARD
TZOFFSETFROM:-0700
TZOFFSETTO:-0800
TZNAME:PST
DTSTART:20261101T090000
END:STANDARD
BEGIN:DAYLIGHT
TZOFFSETFROM:-0800
TZOFFSETTO:-0700
TZNAME:PDT
DTSTART:20270314T100000
END:DAYLIGHT
BEGIN:STANDARD
TZOFFSETFROM:-0700
TZOFFSETTO:-0800
TZNAME:PST
DTSTART:20271107T090000
END:STANDARD
END:VTIMEZONE
BEGIN:VEVENT
DTSTART;TZID=America/Los_Angeles:20260409T180000
DTEND;TZID=America/Los_Angeles:20260528T203000
DTSTAMP:20260423T053222
CREATED:20260402T170127Z
LAST-MODIFIED:20260422T213921Z
UID:10002297-1775757600-1780000200@www.childrenscouncil.org
SUMMARY:Early Educator Workshop: FCC Fundamentals Series 20260409
DESCRIPTION:Information to access the online content will be texted or emailed to participants\, and materials will be mailed to your address.\n\n\nBuild your unstoppable business with the Family Child Care Fundamentals Series. Our 8-session series will provide you with a solid foundation to start and run a successful and professional Family Child Care business. \nDesign Your Unique Program: April 9\, 6-8:30pm \nTake your business ideas and really make them a reality! Explore ways to leverage unique skills and interests to create a child care program that is personally fulfilling and attractive to families. Learn to identify the needs of your clients and target audiences you can best serve. You’ll leave this class with strategies for your core program offering and knowing what will make your program stand out in the market. \nActivities and Curriculum Design: April 16\, 6-8:30pm \nGet a head start planning for the core element of your business: daily activities and weekly curriculum plans. Come away knowing how to create activities that support a child’s development while staying true to your unique program idea. Build a curriculum plan you love teaching and children love following! \nCreate Your Best Environment: April 23\, 6-8:30pm \nEmbrace your creative side and design your best space. Plan an environment that supports children with their social\, emotional and cognitive learning as well as your own well-being. Learn how to use color\, lighting and space to relax or energize. Practice creating different activity areas and identifying which ones are the best for your program’s curriculum. \nMarket Your Business: April 30\, 6-8:30pm \nYou know what’s special about your program – now share that message with families and your community! Learn the basic principles of marketing and create the building blocks of your marketing plan. Topics include long term planning for full enrollment\, developing messaging for advertisements and developing your targeted marketing strategy. \nContracts and Policies: May 7\, 6-8:30pm \nEstablish trust\, clarity and positive communication with families through your contract and parent handbook. Build your professional relationship with clients by creating a contract that ensures clarity with families. Learn how to build a family handbook that supports both your business and the clients you serve. Set the tone for positive communication with families by learning benefit-focused language to educate your families on how you run your program and why. \nCommunication with Families: May 14\, 6-8:30pm \nEffective communication builds understanding and trust! Learn communication best practices with families at the time of enrollment and beyond. Create a family communication and engagement plan for your program and learn about managing challenging conversations\, legal requirements and how to protect your business. \nBusiness Finances: May 21\, 6-8:30pm \nCould you accurately estimate the costs of your business? Let us help you learn how! Create a working budget for your business. Gain a better understanding of financial models that show the enrollment levels you need to break even\, and when you will begin to earn a profit. Set prices that are fair and profitable and walk away with a better understanding of your finances so you can make better business decisions. \nPrepare for Business Taxes: May 28\, 6-8:30pm \nDon’t be caught off guard – identify and set up your best method for record keeping. Learn what costs you can deduct from your business income and how to calculate time/space usage. Explore special topics such as food costs and choose the best method of tracking for you.
URL:https://www.childrenscouncil.org/event/early-educator-workshop-fcc-fundamentals-series-20260409/
CATEGORIES:English,FCC Fundamentals,Provider Workshop
ATTACH;FMTTYPE=image/jpeg:https://www.childrenscouncil.org/wp-content/uploads/2025/02/0eb9b3d1ab5a938ef280219687ddd5c0-p63V0Y.tmp_.jpg
END:VEVENT
BEGIN:VEVENT
DTSTART;TZID=America/Los_Angeles:20260423T170000
DTEND;TZID=America/Los_Angeles:20260423T183000
DTSTAMP:20260423T053222
CREATED:20260120T193059Z
LAST-MODIFIED:20260422T213924Z
UID:10002244-1776963600-1776969000@www.childrenscouncil.org
SUMMARY:Family Event: Caregiver & Child Developmental Playgroups 2025-202606
DESCRIPTION:Children & their caregivers are invited to our free playgroups for children ages 0-3 who have a mild to moderate disability or delay.\n\n\nTo participate in our weekly playgroups\, please sign up here: https://childrenscouncil.tfaforms.net/18 \n \nEventbrite registration is not required. \nPlaygroups are currently facilitated in English. All English language learners are welcome! \nChoose one of the following playgroup sessions: \n\nTuesdays 10:00am-11:30am\nThursdays 5:00pm-6:30pm\nSaturdays 11:00am-12:30pm\n\nChildren’s Council invites families and their caregivers to participate together in a free playgroup for children aged birth to three years who have mild to moderate disabilities\, learning differences and/or complex medical needs. \nEach week a playgroup coach will lead participating families or caregivers in developmentally engaging\, hands-on activities to support the growth and development of their young children. \nOver the course of 10-weeks\, children & their caregivers will have access to: \n\nASQ:SE-2 and ASQ-3 (developmental screening)\nIndividualized feedback and home activities for each child\nWeekly parent education topics\nDeveloping a community support network\n\nPlease contact Saeda Fuller at sfuller@childrenscouncil.org if you have any questions.
URL:https://www.childrenscouncil.org/event/family-event-caregiver-child-developmental-playgroups-2025-202606-57/
LOCATION:Children’s Council of San Francisco\, 445 Church Street\, San Francisco\, CA\, 94114\, United States
CATEGORIES:Developmental Playgroups,English,Family Workshop,Workshops
ATTACH;FMTTYPE=image/jpeg:https://www.childrenscouncil.org/wp-content/uploads/2025/02/9160925cf289349de9299ffdeb52fe0a-LxwMc6.tmp_.jpg
END:VEVENT
BEGIN:VEVENT
DTSTART;TZID=America/Los_Angeles:20260425T110000
DTEND;TZID=America/Los_Angeles:20260425T123000
DTSTAMP:20260423T053222
CREATED:20260120T193103Z
LAST-MODIFIED:20260422T213954Z
UID:10002245-1777114800-1777120200@www.childrenscouncil.org
SUMMARY:Family Event: Caregiver & Child Developmental Playgroups 2025-202606
DESCRIPTION:Children & their caregivers are invited to our free playgroups for children ages 0-3 who have a mild to moderate disability or delay.\n\n\nTo participate in our weekly playgroups\, please sign up here: https://childrenscouncil.tfaforms.net/18 \n \nEventbrite registration is not required. \nPlaygroups are currently facilitated in English. All English language learners are welcome! \nChoose one of the following playgroup sessions: \n\nTuesdays 10:00am-11:30am\nThursdays 5:00pm-6:30pm\nSaturdays 11:00am-12:30pm\n\nChildren’s Council invites families and their caregivers to participate together in a free playgroup for children aged birth to three years who have mild to moderate disabilities\, learning differences and/or complex medical needs. \nEach week a playgroup coach will lead participating families or caregivers in developmentally engaging\, hands-on activities to support the growth and development of their young children. \nOver the course of 10-weeks\, children & their caregivers will have access to: \n\nASQ:SE-2 and ASQ-3 (developmental screening)\nIndividualized feedback and home activities for each child\nWeekly parent education topics\nDeveloping a community support network\n\nPlease contact Saeda Fuller at sfuller@childrenscouncil.org if you have any questions.
URL:https://www.childrenscouncil.org/event/family-event-caregiver-child-developmental-playgroups-2025-202606-66/
LOCATION:Children’s Council of San Francisco\, 445 Church Street\, San Francisco\, CA\, 94114\, United States
CATEGORIES:Developmental Playgroups,English,Family Workshop,Workshops
ATTACH;FMTTYPE=image/jpeg:https://www.childrenscouncil.org/wp-content/uploads/2025/02/9160925cf289349de9299ffdeb52fe0a-LxwMc6.tmp_.jpg
END:VEVENT
BEGIN:VEVENT
DTSTART;TZID=America/Los_Angeles:20260428T100000
DTEND;TZID=America/Los_Angeles:20260428T113000
DTSTAMP:20260423T053222
CREATED:20260120T193103Z
LAST-MODIFIED:20260422T213955Z
UID:10002246-1777370400-1777375800@www.childrenscouncil.org
SUMMARY:Family Event: Caregiver & Child Developmental Playgroups 2025-202606
DESCRIPTION:Children & their caregivers are invited to our free playgroups for children ages 0-3 who have a mild to moderate disability or delay.\n\n\nTo participate in our weekly playgroups\, please sign up here: https://childrenscouncil.tfaforms.net/18 \n \nEventbrite registration is not required. \nPlaygroups are currently facilitated in English. All English language learners are welcome! \nChoose one of the following playgroup sessions: \n\nTuesdays 10:00am-11:30am\nThursdays 5:00pm-6:30pm\nSaturdays 11:00am-12:30pm\n\nChildren’s Council invites families and their caregivers to participate together in a free playgroup for children aged birth to three years who have mild to moderate disabilities\, learning differences and/or complex medical needs. \nEach week a playgroup coach will lead participating families or caregivers in developmentally engaging\, hands-on activities to support the growth and development of their young children. \nOver the course of 10-weeks\, children & their caregivers will have access to: \n\nASQ:SE-2 and ASQ-3 (developmental screening)\nIndividualized feedback and home activities for each child\nWeekly parent education topics\nDeveloping a community support network\n\nPlease contact Saeda Fuller at sfuller@childrenscouncil.org if you have any questions.
URL:https://www.childrenscouncil.org/event/family-event-caregiver-child-developmental-playgroups-2025-202606-65/
LOCATION:Children’s Council of San Francisco\, 445 Church Street\, San Francisco\, CA\, 94114\, United States
CATEGORIES:Developmental Playgroups,English,Family Workshop,Workshops
ATTACH;FMTTYPE=image/jpeg:https://www.childrenscouncil.org/wp-content/uploads/2025/02/9160925cf289349de9299ffdeb52fe0a-LxwMc6.tmp_.jpg
END:VEVENT
BEGIN:VEVENT
DTSTART;TZID=America/Los_Angeles:20260428T103000
DTEND;TZID=America/Los_Angeles:20260428T113000
DTSTAMP:20260423T053222
CREATED:20260120T193637Z
LAST-MODIFIED:20260422T213924Z
UID:10002185-1777372200-1777375800@www.childrenscouncil.org
SUMMARY:Family Event: Tuesday Playgroup Virtual 202401-202612
DESCRIPTION:Baby Sign Language Virtual Playgroup\, the last Tuesday of the month at 10:30am\, a learning event for the whole family!\n\n\nPlease tune in at 10:30am for our Baby Sign Language Playgroup a fun\, virtual\, American Sign Language session for all! \nOn the last Tuesday of each month Happy Baby Signs will lead engaging activities to support connection and communication\, including resources and ideas you can use at home. Designed for young children\, their parents and caregivers. All languages and drop-ins welcome!
URL:https://www.childrenscouncil.org/event/family-event-tuesday-playgroup-virtual-202401-202612-9/
CATEGORIES:English,Playgroup
ATTACH;FMTTYPE=image/jpeg:https://www.childrenscouncil.org/wp-content/uploads/2025/02/fc950b81aacf6b7325e1f7d9ee4dc659-aDtePp.tmp_.jpg
END:VEVENT
BEGIN:VEVENT
DTSTART;TZID=America/Los_Angeles:20260430T170000
DTEND;TZID=America/Los_Angeles:20260430T183000
DTSTAMP:20260423T053222
CREATED:20260120T193102Z
LAST-MODIFIED:20260422T213957Z
UID:10002247-1777568400-1777573800@www.childrenscouncil.org
SUMMARY:Family Event: Caregiver & Child Developmental Playgroups 2025-202606
DESCRIPTION:Children & their caregivers are invited to our free playgroups for children ages 0-3 who have a mild to moderate disability or delay.\n\n\nTo participate in our weekly playgroups\, please sign up here: https://childrenscouncil.tfaforms.net/18 \n \nEventbrite registration is not required. \nPlaygroups are currently facilitated in English. All English language learners are welcome! \nChoose one of the following playgroup sessions: \n\nTuesdays 10:00am-11:30am\nThursdays 5:00pm-6:30pm\nSaturdays 11:00am-12:30pm\n\nChildren’s Council invites families and their caregivers to participate together in a free playgroup for children aged birth to three years who have mild to moderate disabilities\, learning differences and/or complex medical needs. \nEach week a playgroup coach will lead participating families or caregivers in developmentally engaging\, hands-on activities to support the growth and development of their young children. \nOver the course of 10-weeks\, children & their caregivers will have access to: \n\nASQ:SE-2 and ASQ-3 (developmental screening)\nIndividualized feedback and home activities for each child\nWeekly parent education topics\nDeveloping a community support network\n\nPlease contact Saeda Fuller at sfuller@childrenscouncil.org if you have any questions.
URL:https://www.childrenscouncil.org/event/family-event-caregiver-child-developmental-playgroups-2025-202606-64/
LOCATION:Children’s Council of San Francisco\, 445 Church Street\, San Francisco\, CA\, 94114\, United States
CATEGORIES:Developmental Playgroups,English,Family Workshop,Workshops
ATTACH;FMTTYPE=image/jpeg:https://www.childrenscouncil.org/wp-content/uploads/2025/02/9160925cf289349de9299ffdeb52fe0a-LxwMc6.tmp_.jpg
END:VEVENT
END:VCALENDAR